0.34999999999999620
0.00000000000000000
0.00000000000000000
-0.35000000000001769
364518.78771996999000000
3275124.10723363000000000
