0.35000000000000187
0.00000000000000000
0.00000000000000000
-0.34999999999999998
364731.34273417998000000
3276013.90661564000000000
