0.35000000000000375
0.00000000000000000
0.00000000000000000
-0.35000000000003462
365047.06834309001000000
3276867.39598227010000000
