0.34999999999996884
0.00000000000000000
0.00000000000000000
-0.34999999999997100
354102.56469327002000000
3272088.22331178980000000
