0.34999999999998122
0.00000000000000000
0.00000000000000000
-0.34999999999998549
354618.78597798001000000
3272302.12001879000000000
