0.34999999999996861
0.00000000000000000
0.00000000000000000
-0.34999999999997095
355670.98955126002000000
3272726.69595878990000000
