0.34999999999996878
0.00000000000000000
0.00000000000000000
-0.34999999999997100
356692.89192885999000000
3273141.34885100000000000
