0.34999999999997095
0.00000000000000000
0.00000000000000000
-0.34999999999997106
357720.70540745999000000
3273589.55501803010000000
