0.34999999999999998
0.00000000000000000
0.00000000000000000
-0.34999999999999998
358758.22635929001000000
3274047.92824776980000000
