0.34999999999997500
0.00000000000000000
0.00000000000000000
-0.34999999999997100
359797.22193335003000000
3274482.94549231000000000
