0.35000000000000420
0.00000000000000000
0.00000000000000000
-0.35000000000001452
360832.96056081000000000
3274908.02455415020000000
