0.34999999999997083
0.00000000000000000
0.00000000000000000
-0.34999999999997100
361869.59491335001000000
3275337.38560592990000000
