0.34999999999996889
0.00000000000000000
0.00000000000000000
-0.34999999999997106
362890.11787721998000000
3275774.94359721990000000
