0.34999999999997505
0.00000000000000000
0.00000000000000000
-0.34999999999997106
363923.25902731001000000
3276225.38338105010000000
