0.34999999999998127
0.00000000000000000
0.00000000000000000
-0.34999999999998549
364960.79725876002000000
3276661.87987637990000000
