0.34999999999996739
0.00000000000000000
0.00000000000000000
-0.34999999999997128
365868.19531381002000000
3275582.17425312990000000
