0.34999999999996712
0.00000000000000000
0.00000000000000000
-0.34999999999997122
364814.27943115000000000
3275196.36728816990000000
