0.35000000000000203
0.00000000000000000
0.00000000000000000
-0.34999999999999998
363747.61179102003000000
3274826.28492613000000000
