0.34999999999998582
0.00000000000000000
0.00000000000000000
-0.34999999999998566
362759.30939085002000000
3274295.42417998010000000
