0.34999999999998771
0.00000000000000000
0.00000000000000000
-0.34999999999998560
361706.09104922001000000
3273919.12993411020000000
