0.34999999999999798
0.00000000000000000
0.00000000000000000
-0.35000000000002851
360630.96887931001000000
3273536.20411346990000000
