0.35000000000000397
0.00000000000000000
0.00000000000000000
-0.34999999999999998
359627.02895676001000000
3273017.43662511000000000
