0.35000000000000403
0.00000000000000000
0.00000000000000000
-0.35000000000002862
358633.76240915997000000
3272509.06635389010000000
