0.34999999999997122
0.00000000000000000
0.00000000000000000
-0.34999999999997117
357613.27458585001000000
3272074.97025519980000000
