0.34999999999999581
0.00000000000000000
0.00000000000000000
-0.35000000000001458
356560.76865501999000000
3271714.74790677990000000
