0.35000000000000203
0.00000000000000000
0.00000000000000000
-0.34999999999999998
355431.86025895999000000
3271434.17314451000000000
