0.34999999999999609
0.00000000000000000
0.00000000000000000
-0.34999999999999998
354310.80249755998000000
3271083.66954952010000000
