0.34999999999999998
0.00000000000000000
0.00000000000000000
-0.35000000000001524
318599.20807821001000000
3251103.92503526990000000
