0.35000000000000353
0.00000000000000000
0.00000000000000000
-0.35000000000003040
318308.16327985999000000
3251591.53368703000000000
