0.34999999999999609
0.00000000000000000
0.00000000000000000
-0.35000000000001402
320856.40771717997000000
3251942.89887579020000000
