0.34999999999997633
0.00000000000000000
0.00000000000000000
-0.34999999999997189
321794.07164500002000000
3251325.20103786980000000
