0.35000000000000409
0.00000000000000000
0.00000000000000000
-0.35000000000002846
322868.46355535998000000
3250871.28794264980000000
