0.34999999999996922
0.00000000000000000
0.00000000000000000
-0.34999999999997145
324003.87483592000000000
3250640.06568979010000000
