0.34999999999998416
0.00000000000000000
0.00000000000000000
-0.34999999999998588
318231.07320307998000000
3241301.44628323990000000
