0.34999999999999826
0.00000000000000000
0.00000000000000000
-0.34999999999999998
317866.37818255997000000
3241733.88301844990000000
