0.34999999999998238
0.00000000000000000
0.00000000000000000
-0.34999999999998593
317097.15228272998000000
3242539.46958761010000000
