0.34999999999999815
0.00000000000000000
0.00000000000000000
-0.34999999999999998
304935.51630497002000000
3232317.39004842010000000
