0.34999999999997017
0.00000000000000000
0.00000000000000000
-0.34999999999997228
305812.42186862999000000
3233009.07996211010000000
