0.34999999999999998
0.00000000000000000
0.00000000000000000
-0.34999999999999998
306744.02473012998000000
3233650.95198920000000000
