0.35000000000000375
0.00000000000000000
0.00000000000000000
-0.35000000000001386
307728.94392866001000000
3234191.78159037000000000
