0.35000000000000375
0.00000000000000000
0.00000000000000000
-0.34999999999999998
308625.31755047000000000
3234864.17396523990000000
