0.34999999999999815
0.00000000000000000
0.00000000000000000
-0.34999999999999998
309535.63852783001000000
3235520.39075849020000000
