0.34999999999997189
0.00000000000000000
0.00000000000000000
-0.34999999999997222
310452.87198517000000000
3236174.30810834000000000
