0.34999999999999998
0.00000000000000000
0.00000000000000000
-0.35000000000001391
311419.81776961999000000
3236747.54156289020000000
