0.34999999999999626
0.00000000000000000
0.00000000000000000
-0.35000000000002773
312352.87658729003000000
3237365.01712359020000000
