0.34999999999997378
0.00000000000000000
0.00000000000000000
-0.34999999999997222
313238.07532795001000000
3238057.20142188990000000
