0.35000000000000375
0.00000000000000000
0.00000000000000000
-0.34999999999999998
317905.92071221001000000
3241151.98136891010000000
