0.35000000000000187
0.00000000000000000
0.00000000000000000
-0.35000000000002779
318822.45841844002000000
3241792.35116870980000000
