0.34999999999999626
0.00000000000000000
0.00000000000000000
-0.35000000000001391
319746.91831113998000000
3242433.52249414010000000
