0.34999999999996984
0.00000000000000000
0.00000000000000000
-0.34999999999997217
320660.93144879001000000
3243107.27353418010000000
